BEGIN:VCALENDAR
VERSION:2.0
PRODID:-//eventon.com NONSGML v1.0//EN
CALSCALE:GREGORIAN
METHOD:PUBLISH
BEGIN:VEVENT
UID:69e4eba66e1e0
DTSTAMP:20260419T145014Z
DTSTART:20250919T140000Z
DTEND:20250919T190000Z
LOCATION:
SUMMARY:Self-Guided Tours
DESCRIPTION:Tickets may be purchased online below or upon arrival at the Jo
 hn &amp; Bobbie Wolfe Visitors Center. Tickets are nonrefundable\,  but it 
 may be possible to reschedule your visit to a later date. If you need reser
 vation assistance\,  please call the office at (336) 996-7922 or email oper
 ations@kornersfolly.org. We are[..]\nhttps://kornersfolly.org/events/self-g
 uided-tours-198/
URL:https://kornersfolly.org/events/self-guided-tours-198/
END:VEVENT
END:VCALENDAR