BEGIN:VCALENDAR
VERSION:2.0
PRODID:-//eventon.com NONSGML v1.0//EN
CALSCALE:GREGORIAN
METHOD:PUBLISH
BEGIN:VEVENT
UID:69e7309c680ca
DTSTAMP:20260421T080900Z
DTSTART:20261208T230000Z
DTEND:20261209T013000Z
LOCATION:
SUMMARY:Piedmont Wind Symphony: Moravian Holiday Brass
DESCRIPTION:Piedmont Wind Symphony in Residence: Enjoy the sounds of the se
 ason on Tuesday\,  December 8\,  2026\,  as members of the Piedmont Wind Sy
 mphony perform Moravian Christmas brass music at Körner’s Folly! Present
 ed in collaboration with Körner’s Folly\,  this December concert celebra
 tes the rich heritage of Moravian holiday brass music\,  a[..]\nhttps://kor
 nersfolly.org/events/piedmont-wind-symphony-moravian-holiday-brass/
URL:https://kornersfolly.org/events/piedmont-wind-symphony-moravian-holiday-brass/
END:VEVENT
END:VCALENDAR