BEGIN:VCALENDAR
VERSION:2.0
PRODID:-//eventon.com NONSGML v1.0//EN
CALSCALE:GREGORIAN
METHOD:PUBLISH
BEGIN:VEVENT
UID:69e73a240460e
DTSTAMP:20260421T084940Z
DTSTART:20260818T220000Z
DTEND:20260819T003000Z
LOCATION:
SUMMARY:Piedmont Wind Symphony: Bierhallen to the Bandstand
DESCRIPTION:Piedmont Wind Symphony in Residence Join us Tuesday\,  August 
 18\,  2026\,  for a festive evening as members of the Piedmont Wind Symphon
 y\,  in collaboration with Körner’s Folly\,  present a program celebrati
 ng the rich heritage and enduring traditions of German wind music. This spe
 cial performance\,  presented in collaboration with Körner’s Folly at[..
 ]\nhttps://kornersfolly.org/events/piedmont-wind-symphony-bierhallen-to-the
 -bandstand/
URL:https://kornersfolly.org/events/piedmont-wind-symphony-bierhallen-to-the-bandstand/
END:VEVENT
END:VCALENDAR