BEGIN:VCALENDAR
VERSION:2.0
PRODID:-//eventon.com NONSGML v1.0//EN
CALSCALE:GREGORIAN
METHOD:PUBLISH
BEGIN:VEVENT
UID:69e77ca5242d6
DTSTAMP:20260421T133325Z
DTSTART:20260719T160000Z
DTEND:20260719T200000Z
LOCATION:
SUMMARY:Folly Flower Show July 19th\,  2026
DESCRIPTION:Step into a world of color and fragrance at our 4th Annual Foll
 y Flower Show on Saturday\,  July 18th and Sunday\,  July 19th! Join us for
  a weekend celebration of all things floral with beautiful arrangements cre
 ated by local florists\,  garden enthusiasts\,  and community members! Set 
 against the stunning backdrop[..]\nhttps://kornersfolly.org/events/folly-fl
 ower-show-july-19th-2026/
URL:https://kornersfolly.org/events/folly-flower-show-july-19th-2026/
END:VEVENT
END:VCALENDAR