BEGIN:VCALENDAR
VERSION:2.0
PRODID:-//eventon.com NONSGML v1.0//EN
CALSCALE:GREGORIAN
METHOD:PUBLISH
BEGIN:VEVENT
UID:69e88d57897a5
DTSTAMP:20260422T085655Z
DTSTART:20260502T140000Z
DTEND:20260502T153000Z
LOCATION:
SUMMARY:May 2026 Taste of History: Historic Preservation Month with Kelly Gomez of Forgotten South
DESCRIPTION:Time: 10:00 – 11:30 In celebration of Historic Preservation M
 onth\,  the May Taste of History program welcomes photographer and blogger 
 Kelly Gomez of The Forgotten South. Beginning her project in 2010\,  Kelly 
 has traveled extensively throughout the American South\,  photographing and
  sharing the stories of “forgotten” places that remain deeply[..]\nhttp
 s://kornersfolly.org/events/may-2026-taste-of-history-historic-preservation
 -month-with-kelly-gomez-of-forgotten-south/
URL:https://kornersfolly.org/events/may-2026-taste-of-history-historic-preservation-month-with-kelly-gomez-of-forgotten-south/
END:VEVENT
END:VCALENDAR