BEGIN:VCALENDAR
VERSION:2.0
PRODID:-//eventon.com NONSGML v1.0//EN
CALSCALE:GREGORIAN
METHOD:PUBLISH
BEGIN:VEVENT
UID:69e4d64a517ad
DTSTAMP:20260419T131906Z
DTSTART:20251213T220000Z
DTEND:20251214T020000Z
LOCATION:
SUMMARY:Kernersville Yuletide Night Market 2025
DESCRIPTION:Kernersville Yuletide Night Market &nbsp; On Saturday\,  Decemb
 er 13 from 5 – 9 pm\,  shop local and support the small businesses that k
 eep our community vibrant and beautiful at this special Yuletide Night Mark
 et\,  organized by the Kernersville Christmas Committee. Featuring treats\,
   gifts\,  and music\,  this evening event includes local[..]\nhttps://korn
 ersfolly.org/events/kernersville-yuletide-night-market-2025/
URL:https://kornersfolly.org/events/kernersville-yuletide-night-market-2025/
END:VEVENT
END:VCALENDAR